BEGIN:VCALENDAR
VERSION:2.0
PRODID:-//Halo 1 Hub - ECPv4.8.1//NONSGML v1.0//EN
CALSCALE:GREGORIAN
METHOD:PUBLISH
X-WR-CALNAME:Halo 1 Hub
X-ORIGINAL-URL:http://halo1hub.com
X-WR-CALDESC:Events for Halo 1 Hub
BEGIN:VEVENT
DTSTART;TZID=UTC-5:20191005T120000
DTEND;TZID=UTC-5:20191006T120000
DTSTAMP:20260424T114040
CREATED:20190915T215850Z
LAST-MODIFIED:20190920T145849Z
UID:1545-1570276800-1570363200@halo1hub.com
SUMMARY:The North Halo CE 24-Hour LAN
DESCRIPTION:\nClassic Halo: Combat Evolved returns to the competitive scene in Canada on October 5th with a 24 hour overnight event at LAN Lords. This event will be played on original Xboxes with Halo 1 NHE on CRT televisions for the best experience possible. From Calgary to Montreal\, 10+ of the best Halo: CE players in Canada are partnering with GT Halo to put on this event and will be in attendance.\n \nA double elimination 2v2 tournament will be held for a few hours during the evening with a separate entry fee of $20 per team and a minimum prize pool of $200. The rest of the event will be free play of any and all gametypes and maps\, from classic Blood Gulch CTF to competitive 2v2 to whatever else you can come up with!\n\n  \nMinimum Prizepool: $200\n(increases with more teams signing up)\n  \n\nWhat To Bring: If you have your own classic Xbox Controller and headset\, please bring it. If you have extra controllers please bring those as well !\nForm of Payment: You may choose to pay ahead via Paypal or pay on-site – fill out the registration form accordingly\nEvent Type: During registration\, if you are participating in the 2v2 Tournament\, select the ‘LAN 2v2 Tournament’ event\, if not choose the ‘Non-Tournament event’\nControllers\, Xboxes and TVs will be provided\, but please feel free to bring your own controller if you have one. Discounts will be available if you provide Xbox or CRT TV !\n\nPrice: Solo – $40 | Group of 4 – $30 Per Person | $10 Discount if you provide an original Xbox and/or CRT monitor ($10 discout max)\n  \n\nStream: mixer.com/gthalo\n  \nRegistration mandatory for all participating teams at the event website below.\nany questions email: gaming@lanlordsgc.ca\nor contact: Vinny Mendoza#6199 (Discord) \n
URL:http://halo1hub.com/event/the-north-halo-ce-24-hour-lan/
LOCATION:LAN Lords Gaming Centre\, 703 Bloor Street West\, Toronto\, Ontario\, M6G 1L5\, Canada
END:VEVENT
END:VCALENDAR