BEGIN:VCALENDAR
VERSION:2.0
PRODID:-//Halo 1 Hub - ECPv4.8.1//NONSGML v1.0//EN
CALSCALE:GREGORIAN
METHOD:PUBLISH
X-WR-CALNAME:Halo 1 Hub
X-ORIGINAL-URL:http://halo1hub.com
X-WR-CALDESC:Events for Halo 1 Hub
BEGIN:VEVENT
DTSTART;TZID=UTC-5:20190906T080000
DTEND;TZID=UTC-5:20190908T170000
DTSTAMP:20260424T112907
CREATED:20190827T181642Z
LAST-MODIFIED:20190827T201519Z
UID:1518-1567756800-1567962000@halo1hub.com
SUMMARY:UGC Halo Classic Atlantic City 2019
DESCRIPTION:\nHalo: Combat Evolved makes its return to the Halo Classic this September in Atlantic City. The doubles side tournament will take place at the venue from Saturday to Sunday (September 7-8) and feature a double-elimination format as well as the lion’s share of a $2\,000 prize pool.\n \nTournament Registration (fee for both members of 2v2 team): $120 USD\n3-Day Spectator passes are: $40 USD \nPlayer Handbook\nhttps://docs.google.com/document/d/1gLlJTxF_lSqw1B0dL9KWFLS6sNVjwOvhM0AiRjnX648/edit \nReduced Hotel Rates\nhttps://reservations.travelclick.com/104218?groupID=2610482&hotelID=104218&fbclid=IwAR3LkUD71FxcunOQ68nFho-78SHf5AD99UUNYGAmudBUVykmcVpKLaX4lSk \nStream\nhttp://www.twitch.tv/UGC_delta \n
URL:http://halo1hub.com/event/ugc-halo-classic-atlantic-city-2019/
LOCATION:Showboat Hotel Atlantic City\, 801 Boardwalk\, Atlantic City\, NJ\, 08401\, United States
END:VEVENT
END:VCALENDAR