BEGIN:VCALENDAR
VERSION:2.0
PRODID:-//Halo 1 Hub - ECPv4.8.1//NONSGML v1.0//EN
CALSCALE:GREGORIAN
METHOD:PUBLISH
X-WR-CALNAME:Halo 1 Hub
X-ORIGINAL-URL:http://halo1hub.com
X-WR-CALDESC:Events for Halo 1 Hub
BEGIN:VEVENT
DTSTART;VALUE=DATE:20190523
DTEND;VALUE=DATE:20190528
DTSTAMP:20260424T113036
CREATED:20190522T030803Z
LAST-MODIFIED:20190523T021032Z
UID:1298-1558569600-1559001599@halo1hub.com
SUMMARY:VA Beach LAN MDW 2019
DESCRIPTION:\n5 Stations (split between 2 rooms) \n\nNeutral Host Edition v1.0 will be on all stations.\nFFA tourney starts Friday the 24th at 9:00pm EST.\n2v2 tourney starts Saturday the 25th at 1:00pm EST.\nPrize pool is $200.\n\n \nConfirmed participants: \n\nDevilman\nHalaster\nmeg\ndds\nMudbone\nNacho\nstunt man\nHurley\nxVirgin\njohnthehero\nUnit\nMissingno\nKilla Cam\nGazzo\nDynomike\nCujjer\nO4\npRivate 99\nKlown\nBiff Nasty\nMcDick\nBRBaby\nForehearth\nOzyorsk\n\n
URL:http://halo1hub.com/event/va-beach-lan-mdw-2019/
LOCATION:VA\, United States
END:VEVENT
END:VCALENDAR