BEGIN:VCALENDAR
VERSION:2.0
PRODID:-//Halo 1 Hub - ECPv4.8.1//NONSGML v1.0//EN
CALSCALE:GREGORIAN
METHOD:PUBLISH
X-WR-CALNAME:Halo 1 Hub
X-ORIGINAL-URL:http://halo1hub.com
X-WR-CALDESC:Events for Halo 1 Hub
BEGIN:VEVENT
DTSTART;TZID=UTC-5:20200109T080000
DTEND;TZID=UTC-5:20200113T170000
DTSTAMP:20260424T114950
CREATED:20200105T193748Z
LAST-MODIFIED:20200106T195441Z
UID:1643-1578556800-1578934800@halo1hub.com
SUMMARY:VA Winter LAN 2020
DESCRIPTION:\n5 Stations (split between 2 rooms) \n\nNeutral Host Edition v1.0 will be on all stations.\n\n \nConfirmed participants: \n1. Devilman (host)\n2. dds\n3. Mudbone\n4. meg\n5. Nacho\n6. Dynomike\n7. Ozyorsk\n8. Forehearth\n9. stunt man\n10. Missingno\n11. Bonesaw\n12. Finny\n13. Fight\n14. C2\n15. SeVy\n16. Skillz\n17. BRBaby\n18. Amayzing\n19. Cujjer\n20. Halaster\n21. xVirgin\n22. Klown\n23. O4\n24. Wraith\n25. Kush\n26. Knighty Knight\n27. Gazzo \n
URL:http://halo1hub.com/event/va-winter-lan-2020/
LOCATION:Devilman’s House\, Norfolk\, VA\, United States
END:VEVENT
END:VCALENDAR